BEGIN:VCALENDAR
VERSION:2.0
PRODID:-//The Foundations Montessori - ECPv6.15.20//NONSGML v1.0//EN
CALSCALE:GREGORIAN
METHOD:PUBLISH
X-ORIGINAL-URL:https://thefoundationsmontessori.com
X-WR-CALDESC:Events for The Foundations Montessori
REFRESH-INTERVAL;VALUE=DURATION:PT1H
X-Robots-Tag:noindex
X-PUBLISHED-TTL:PT1H
BEGIN:VTIMEZONE
TZID:UTC
BEGIN:STANDARD
TZOFFSETFROM:+0000
TZOFFSETTO:+0000
TZNAME:UTC
DTSTART:20250101T000000
END:STANDARD
END:VTIMEZONE
BEGIN:VEVENT
DTSTART;TZID=UTC:20260422T080000
DTEND;TZID=UTC:20260422T170000
DTSTAMP:20260423T192918
CREATED:20260216T203038Z
LAST-MODIFIED:20260216T203038Z
UID:1414-1776844800-1776877200@thefoundationsmontessori.com
SUMMARY:Earth Day
DESCRIPTION:TFM 2025-2026 Calendar
URL:https://thefoundationsmontessori.com/event/earth-day-2/
END:VEVENT
END:VCALENDAR