BEGIN:VCALENDAR
VERSION:2.0
PRODID:-//The Foundations Montessori - ECPv6.15.20//NONSGML v1.0//EN
CALSCALE:GREGORIAN
METHOD:PUBLISH
X-WR-CALNAME:The Foundations Montessori
X-ORIGINAL-URL:https://thefoundationsmontessori.com
X-WR-CALDESC:Events for The Foundations Montessori
REFRESH-INTERVAL;VALUE=DURATION:PT1H
X-Robots-Tag:noindex
X-PUBLISHED-TTL:PT1H
BEGIN:VTIMEZONE
TZID:UTC
BEGIN:STANDARD
TZOFFSETFROM:+0000
TZOFFSETTO:+0000
TZNAME:UTC
DTSTART:20250101T000000
END:STANDARD
END:VTIMEZONE
BEGIN:VEVENT
DTSTART;TZID=UTC:20260312T080000
DTEND;TZID=UTC:20260312T170000
DTSTAMP:20260424T073305
CREATED:20260216T202646Z
LAST-MODIFIED:20260216T202646Z
UID:1403-1773302400-1773334800@thefoundationsmontessori.com
SUMMARY:Kinder info session
DESCRIPTION:TFM 2025-2026 Calendar
URL:https://thefoundationsmontessori.com/event/kinder-info-session/
END:VEVENT
BEGIN:VEVENT
DTSTART;TZID=UTC:20260227T080000
DTEND;TZID=UTC:20260227T170000
DTSTAMP:20260424T073305
CREATED:20260216T202540Z
LAST-MODIFIED:20260216T202540Z
UID:1401-1772179200-1772211600@thefoundationsmontessori.com
SUMMARY:Recycling Fashion show
DESCRIPTION:TFM 2025-2026 Calendar
URL:https://thefoundationsmontessori.com/event/recycling-fashion-show/
END:VEVENT
BEGIN:VEVENT
DTSTART;TZID=UTC:20260216T080000
DTEND;TZID=UTC:20260216T170000
DTSTAMP:20260424T073305
CREATED:20260216T202507Z
LAST-MODIFIED:20260216T202507Z
UID:1399-1771228800-1771261200@thefoundationsmontessori.com
SUMMARY:President’s Day holiday ( No care available )
DESCRIPTION:TFM 2025-2026 Calendar
URL:https://thefoundationsmontessori.com/event/presidents-day-holiday-no-care-available/
END:VEVENT
BEGIN:VEVENT
DTSTART;TZID=UTC:20260213T080000
DTEND;TZID=UTC:20260213T170000
DTSTAMP:20260424T073305
CREATED:20260216T202414Z
LAST-MODIFIED:20260216T202414Z
UID:1397-1770969600-1771002000@thefoundationsmontessori.com
SUMMARY:classroom Valentine’s Day book exchange
DESCRIPTION:TFM 2025-2026 Calendar
URL:https://thefoundationsmontessori.com/event/classroom-valentines-day-book-exchange/
END:VEVENT
BEGIN:VEVENT
DTSTART;TZID=UTC:20260119T080000
DTEND;TZID=UTC:20260119T170000
DTSTAMP:20260424T073305
CREATED:20260216T202327Z
LAST-MODIFIED:20260216T202327Z
UID:1395-1768809600-1768842000@thefoundationsmontessori.com
SUMMARY:MLK Day Holiday (No care available)
DESCRIPTION:TFM 2025-2026 Calendar
URL:https://thefoundationsmontessori.com/event/mlk-day-holiday-no-care-available/
END:VEVENT
BEGIN:VEVENT
DTSTART;TZID=UTC:20260105T080000
DTEND;TZID=UTC:20260105T170000
DTSTAMP:20260424T073305
CREATED:20260216T202239Z
LAST-MODIFIED:20260216T202239Z
UID:1393-1767600000-1767632400@thefoundationsmontessori.com
SUMMARY:First day of school
DESCRIPTION:TFM 2025-2026 Calendar
URL:https://thefoundationsmontessori.com/event/first-day-of-school-2/
END:VEVENT
BEGIN:VEVENT
DTSTART;TZID=UTC:20260101T080000
DTEND;TZID=UTC:20260102T170000
DTSTAMP:20260424T073305
CREATED:20260216T202157Z
LAST-MODIFIED:20260216T202157Z
UID:1391-1767254400-1767373200@thefoundationsmontessori.com
SUMMARY:TFM holiday ( No care available )
DESCRIPTION:TFM 2025-2026 Calendar
URL:https://thefoundationsmontessori.com/event/tfm-holiday-no-care-available/
END:VEVENT
END:VCALENDAR