BEGIN:VCALENDAR
VERSION:2.0
PRODID:-//The Foundations Montessori - ECPv6.15.20//NONSGML v1.0//EN
CALSCALE:GREGORIAN
METHOD:PUBLISH
X-WR-CALNAME:The Foundations Montessori
X-ORIGINAL-URL:https://thefoundationsmontessori.com
X-WR-CALDESC:Events for The Foundations Montessori
REFRESH-INTERVAL;VALUE=DURATION:PT1H
X-Robots-Tag:noindex
X-PUBLISHED-TTL:PT1H
BEGIN:VTIMEZONE
TZID:UTC
BEGIN:STANDARD
TZOFFSETFROM:+0000
TZOFFSETTO:+0000
TZNAME:UTC
DTSTART:20250101T000000
END:STANDARD
END:VTIMEZONE
BEGIN:VEVENT
DTSTART;TZID=UTC:20260508T080000
DTEND;TZID=UTC:20260508T170000
DTSTAMP:20260423T192846
CREATED:20260216T203602Z
LAST-MODIFIED:20260216T203602Z
UID:1418-1778227200-1778259600@thefoundationsmontessori.com
SUMMARY:Muffins with Mom
DESCRIPTION:TFM 2025-2026 Calendar
URL:https://thefoundationsmontessori.com/event/muffins-with-mom/
END:VEVENT
BEGIN:VEVENT
DTSTART;TZID=UTC:20260515T080000
DTEND;TZID=UTC:20260515T170000
DTSTAMP:20260423T192846
CREATED:20260216T203658Z
LAST-MODIFIED:20260216T203658Z
UID:1420-1778832000-1778864400@thefoundationsmontessori.com
SUMMARY:Graduation
DESCRIPTION:TFM 2025-2026 Calendar
URL:https://thefoundationsmontessori.com/event/graduation-2/
END:VEVENT
BEGIN:VEVENT
DTSTART;TZID=UTC:20260525T080000
DTEND;TZID=UTC:20260525T170000
DTSTAMP:20260423T192846
CREATED:20260216T203803Z
LAST-MODIFIED:20260216T203847Z
UID:1422-1779696000-1779728400@thefoundationsmontessori.com
SUMMARY:Memorial Day Holiday ( No care available )
DESCRIPTION:TFM 2025-2026 Calendar
URL:https://thefoundationsmontessori.com/event/memorial-day-holiday-no-care-available/
END:VEVENT
BEGIN:VEVENT
DTSTART;TZID=UTC:20260529T080000
DTEND;TZID=UTC:20260529T170000
DTSTAMP:20260423T192846
CREATED:20260216T203925Z
LAST-MODIFIED:20260216T203925Z
UID:1424-1780041600-1780074000@thefoundationsmontessori.com
SUMMARY:Last day of the School year
DESCRIPTION:TFM 2025-2026 Calendar
URL:https://thefoundationsmontessori.com/event/last-day-of-the-school-year/
END:VEVENT
END:VCALENDAR